The Flood Zones depicted in this layer are for REFERENCE ONLY. For official Floodplain Determinations please view the official FEMA FIRM Panel or visit the FEMA Interactive Map by going to https:\\\\msc.fema.gov.<\/div>",
"name": "FloodAwarenessAreas",
"description": "
Flood awareness areas created by the Nebraska Department of Water, Energy and Environment (DWEE) Floodplain Management Division during the Data Development phase of a FEMA funded Floodplain Mapping project.<\/span><\/p><\/div>
The flood zones are NOT EFFECTIVE flood zones recognized by FEMA. They are a product provided by DWEE to provide the most up to date floodplain information using the latest elevation data and mapping technology.<\/div>
<\/div>
The Flood Zones depicted in this layer are for REFERENCE ONLY. For official Floodplain Determinations please view the official FEMA FIRM Panel or visit the FEMA Interactive Map by going to https:\\\\msc.fema.gov.<\/div>",
"extent": {
"xmin": -1.1539433615268061E7,
"ymin": 4852651.914578563,
"xmax": -1.0644948400895214E7,
"ymax": 5328271.171355465,
"spatialReference": {
"wkid": 102100,
"latestWkid": 3857
}
},
"initialExtent": {
"xmin": -1.1539433615268061E7,
"ymin": 4852651.914578563,
"xmax": -1.0644948400895214E7,
"ymax": 5328271.171355465,
"spatialReference": {
"wkid": 102100,
"latestWkid": 3857
}
},
"fullExtent": {
"xmin": -1.1539433615268061E7,
"ymin": 4852651.914578563,
"xmax": -1.0644948400895214E7,
"ymax": 5328271.171355465,
"spatialReference": {
"wkid": 102100,
"latestWkid": 3857
}
},
"sortableFields": "",
"bandCount": 3,
"pixelType": "U8",
"minValues": [],
"maxValues": [],
"meanValues": [],
"stdvValues": [],
"hasMultidimensions": false,
"pixelSizeX": 0.597164283559817,
"pixelSizeY": 0.5971642835598173,
"meanPixelSize": 0.5971642835598172,
"datasetFormat": "AFR",
"uncompressedSize": 3579037110432,
"blockWidth": 256,
"blockHeight": 256,
"compressionType": "None",
"bandNames": [
"Band_1",
"Band_2",
"Band_3"
],
"allowCopy": true,
"allowAnalysis": true,
"itemAccess": false,
"inspectionCapabilities": "",
"minPixelSize": 0,
"maxPixelSize": 0,
"copyrightText": "Nebraska Department of Water, Energy and Environment (DWEE)",
"serviceDataType": "esriImageServiceDataTypeRGB",
"serviceSourceType": "esriImageServiceSourceTypeDataset",
"objectIdField": "",
"fields": [],
"capabilities": "Image,Metadata,Mensuration",
"defaultMosaicMethod": "Center",
"allowedMosaicMethods": "",
"sortField": "",
"sortValue": null,
"sortAscending": true,
"mosaicOperator": "First",
"defaultCompressionQuality": 75,
"defaultResamplingMethod": "Bilinear",
"maxImageHeight": 4100,
"maxImageWidth": 15000,
"allowRasterFunction": true,
"rasterFunctionInfos": [
{
"name": "None",
"description": "",
"help": ""
}
],
"rasterTypeInfos": [
{
"name": "Raster Dataset",
"description": "Supports all ArcGIS Raster Datasets",
"help": ""
}
],
"mensurationCapabilities": "Basic",
"hasHistograms": false,
"hasColormap": false,
"hasRasterAttributeTable": false,
"minScale": 0,
"maxScale": 0,
"exportTilesAllowed": false,
"supportsStatistics": false,
"supportsAdvancedQueries": false,
"editFieldsInfo": null,
"ownershipBasedAccessControlForRasters": null,
"allowComputeTiePoints": false,
"useStandardizedQueries": true,
"advancedQueryCapabilities": {
"useStandardizedQueries": true,
"supportsStatistics": false,
"supportsOrderBy": false,
"supportsDistinct": false,
"supportsPagination": false
},
"spatialReference": {
"wkid": 102100,
"latestWkid": 3857
}
}